BEGIN:VCALENDAR
VERSION:2.0
PRODID:-//HortiNet.pl - ECPv6.10.2//NONSGML v1.0//EN
CALSCALE:GREGORIAN
METHOD:PUBLISH
X-WR-CALNAME:HortiNet.pl
X-ORIGINAL-URL:https://hortinet.pl
X-WR-CALDESC:Wydarzenia dla HortiNet.pl
REFRESH-INTERVAL;VALUE=DURATION:PT1H
X-Robots-Tag:noindex
X-PUBLISHED-TTL:PT1H
BEGIN:VTIMEZONE
TZID:Europe/Warsaw
BEGIN:DAYLIGHT
TZOFFSETFROM:+0100
TZOFFSETTO:+0200
TZNAME:CEST
DTSTART:20260329T010000
END:DAYLIGHT
BEGIN:STANDARD
TZOFFSETFROM:+0200
TZOFFSETTO:+0100
TZNAME:CET
DTSTART:20261025T010000
END:STANDARD
END:VTIMEZONE
BEGIN:VEVENT
DTSTART;TZID=Europe/Warsaw:20260301T120000
DTEND;TZID=Europe/Warsaw:20260301T160000
DTSTAMP:20260422T143443
CREATED:20260217T083118Z
LAST-MODIFIED:20260217T083122Z
UID:20243-1772366400-1772380800@hortinet.pl
SUMMARY:Przechowalniczy Dzień Otwarty Rijk Zwaan
DESCRIPTION:Firma Rijk Zwaan  wraz z partnerami wydarzenia: Grupa Producentów Rozsad Krasoń\, Inagri\, Yara poland\, Haifa\, Agrobots\, Intermag\, Andermatt\, Natural Crop\, FMC  zapraszają na:\nPrzechowalniczy Dzień Otwarty Rijk Zwaan\n\nW programie:\n prezentacje odmian kapust\, marchwi\, selera i buraka przechowalniczego\n rozmowy z ekspertami i praktyczne wskazówki z pola\n wymiana doświadczeń i inspirujące dyskusje\n\n\n Kiedy? 1 marca (niedziela)\, godz. 12:00–16:00\n Gdzie? Równa 43\, 98‑235 Błaszki\n\nWydarzenie jest świetną okazją\, by sprawdzić\, jakie odmiany najlepiej radziły sobie w tym sezonie i porozmawiać z ludźmi\, którzy znają je od podszewki.\n\nW razie pytań prośba o kontakt z:\n Tomasz Nożykowski: 604 470 133\n Jarosław Wojtczak: 604 470 135
URL:https://hortinet.pl/wydarzenie/przechowalniczy-dzien-otwarty-rijk-zwaan-2/
LOCATION:Gospodarstwo Państwa Gołąb\, ul. Równa 43\, Błaszki\, 98-235\, Poland
ATTACH;FMTTYPE=image/jpeg:https://hortinet.pl/wp-content/uploads/2026/02/Obraz1-scaled.jpg
END:VEVENT
BEGIN:VEVENT
DTSTART;TZID=Europe/Warsaw:20260619T080000
DTEND;TZID=Europe/Warsaw:20260620T170000
DTSTAMP:20260422T143443
CREATED:20260322T143058Z
LAST-MODIFIED:20260322T143111Z
UID:20597-1781856000-1781974800@hortinet.pl
SUMMARY:Ogólnopolska Konferencja Naukowa – Ziemia. Roślina. Odpowiedzialność. 110 lat ogrodnictwa w SGGW.
DESCRIPTION:Wydział Ogrodniczy oraz Instytut Nauk Ogrodniczych  Szkoły Głównej Gospodarstwa Wiejskiego w Warszawie\,  we współpracy z Polskim Towarzystwem Nauk Ogrodniczych mają zaszczyt zaprosić do udziału w\nOgólnopolskiej Konferencji Naukowej\nZiemia. Roślina. Odpowiedzialność.\n110 lat ogrodnictwa w SGGW\noraz w Zjeździe Absolwentów\norganizowanych w ramach 210 lat Tradycji SGGW\n19-20 czerwca 2026 roku\nTematyka Konferencji dotyczy następujących zagadnień:\n\nogrodnictwo przyszłości – technologie\, innowacje\, zieleń miejska\nrola ogrodnictwa w kształtowaniu zdrowego stylu życia\nzrównoważone ogrodnictwo – ochrona bioróżnorodności\, stabilność ekosystemów\, bezpieczeństwo żywnościowe\n\nZainteresowanych udziałem zapraszamy po szczegółowe informacje pod adres: https://110latogrodnictwawsggw.pl/\nZgłoszenia:\nDo 31 marca 2026 r. – zgłoszenia na Konferencję i Bal Absolwentów\nDo 31 marca 2026 r. – wpłaty konferencyjne i na Bal Absolwentów\nDo 15 kwietnia 2026 r. – nadsyłanie streszczeń doniesień konferencyjnych\nOpłaty:\nWysokość opłaty konferencyjnej – 700 zł\, ulgowa dla doktorantów – 300 zł. \nWpisowe konferencyjne obejmuje: udział w konferencji\, przerwy kawowe\, lunche\, uroczystą kolację w Wilanowie oraz książkę abstraktów w wersji elektronicznej \nWysokość opłaty za udział w Balu Absolwentów – 350 zł (dostępność miejsc ograniczona\, decyduje kolejność wpłat) \nOpłaty za udział w konferencji oraz za udział w Balu Absolwentów należy wpłacać na konto: \nPolskie Towarzystwo Nauk Ogrodniczych\nAl. 29 Listopada 54\, 31-425 Kraków\nBank Pekao S.A. 67 1240 1125 1111 0011 6412 8366 \nW tytule przelewu z opłatą konferencyjną prosimy wpisać:\nKonferencja\, Imię i Nazwisko  \nW tytule przelewu z opłatą za udział w Balu Absolwentów prosimy wpisać:\nBal Absolwentów\, Imię i Nazwisko
URL:https://hortinet.pl/wydarzenie/ogolnopolska-konferencja-naukowa-ziemia-roslina-odpowiedzialnosc-110-lat-ogrodnictwa-w-sggw/
LOCATION:SGGW
ATTACH;FMTTYPE=image/jpeg:https://hortinet.pl/wp-content/uploads/2026/03/SGGW.jpg
END:VEVENT
END:VCALENDAR