BEGIN:VCALENDAR
VERSION:2.0
PRODID:-//HortiNet.pl - ECPv6.10.2//NONSGML v1.0//EN
CALSCALE:GREGORIAN
METHOD:PUBLISH
X-ORIGINAL-URL:https://hortinet.pl
X-WR-CALDESC:Wydarzenia dla HortiNet.pl
REFRESH-INTERVAL;VALUE=DURATION:PT1H
X-Robots-Tag:noindex
X-PUBLISHED-TTL:PT1H
BEGIN:VTIMEZONE
TZID:Europe/Warsaw
BEGIN:DAYLIGHT
TZOFFSETFROM:+0100
TZOFFSETTO:+0200
TZNAME:CEST
DTSTART:20240331T010000
END:DAYLIGHT
BEGIN:STANDARD
TZOFFSETFROM:+0200
TZOFFSETTO:+0100
TZNAME:CET
DTSTART:20241027T010000
END:STANDARD
END:VTIMEZONE
BEGIN:VEVENT
DTSTART;TZID=Europe/Warsaw:20240421T150000
DTEND;TZID=Europe/Warsaw:20240421T170000
DTSTAMP:20260423T102032
CREATED:20240416T093418Z
LAST-MODIFIED:20240416T093418Z
UID:13315-1713711600-1713718800@hortinet.pl
SUMMARY:Spotkanie polowe  "Pora na sałatę i rzodkiewkę"
DESCRIPTION:Firma Enza Zaden wraz ze współorganizatorami zapraszają na pierwsze w tym sezonie spotkanie polowe „Pora na sałatę i rzodkiewkę!” Spotkanie odbędzie się w  Gospodarstwie Magdaleny i Przemysława Szatan.\n\nW programie:Enza Zaden\, Bernard Zioło: Prezentacja odmian różnych typów sałatBiocont\, Katarzyna Woszczyk : RizocoreR- mikrobiologiczne wsparcie w produkcji sałatyAgromal\, Ireneusz Sypuła: nawozy organiczne i nawozy do fertygacji w produkcji tunelowej warzywGrupa Producentów Rozsad Krasoń\, Aleksandra Wronka: Rozsady warzyw Krasoń – oferta\, możliwości i korzyści.
URL:https://hortinet.pl/wydarzenie/spotkanie-polowe-pora-na-salate-i-rzodkiewke/
LOCATION:Gospodarstwo Magdaleny i Przemysława Szatan\, Długie 38\, Długie\, 26-414\, Poland
END:VEVENT
END:VCALENDAR