BEGIN:VCALENDAR
VERSION:2.0
PRODID:-//HortiNet.pl - ECPv6.10.2//NONSGML v1.0//EN
CALSCALE:GREGORIAN
METHOD:PUBLISH
X-ORIGINAL-URL:https://hortinet.pl
X-WR-CALDESC:Wydarzenia dla HortiNet.pl
REFRESH-INTERVAL;VALUE=DURATION:PT1H
X-Robots-Tag:noindex
X-PUBLISHED-TTL:PT1H
BEGIN:VTIMEZONE
TZID:Europe/Warsaw
BEGIN:DAYLIGHT
TZOFFSETFROM:+0100
TZOFFSETTO:+0200
TZNAME:CEST
DTSTART:20260329T010000
END:DAYLIGHT
BEGIN:STANDARD
TZOFFSETFROM:+0200
TZOFFSETTO:+0100
TZNAME:CET
DTSTART:20261025T010000
END:STANDARD
END:VTIMEZONE
BEGIN:VEVENT
DTSTART;TZID=Europe/Warsaw:20260108T110000
DTEND;TZID=Europe/Warsaw:20260108T130000
DTSTAMP:20260422T165218
CREATED:20251230T104549Z
LAST-MODIFIED:20251230T104549Z
UID:19839-1767870000-1767877200@hortinet.pl
SUMMARY:Arbuzy Made in Poland
DESCRIPTION:Firma Hazera Poland serdecznie zaprasza na konferencję:\nArbuzy Made in Poland.  \nKiedy: 8 stycznia\, start godz. 11:00 \nGdzie: Hotel Mazurkas (Ożarów Mazowiecki) \nRejestracja: TAK (+48 603 598 480) \n\nW programie: \n– Federico Puyo (Hiszpania) – Technologia produkcji arbuzów bezpestkowych\n– Chris Rawlins VIDAfresh (Wielka Brytania) – Innowacje i trendy w rynku arbuzów w Wielkiej Brytanii\n– Paweł Myziak (Polska) – Polski arbuz – perspektywy\n– Grzegorz Banaś OGL service Poland (Polska) – Oczekiwania sieci handlowych wobec produktów premium – arbuz\n– Panel dyskusyjny – Jak rozwijać rynek arbuza „Made in Poland” \nOrganizatorzy serdecznie zapraszają i proszą o potwierdzenie udziału.
URL:https://hortinet.pl/wydarzenie/arbuzy-made-in-poland/
LOCATION:Hotel Mazurkas\, ul. Poznańska 177\, Ożarów Mazowiecki\, mazowieckie\, 05-850\, Poland
ATTACH;FMTTYPE=image/png:https://hortinet.pl/wp-content/uploads/2025/12/ARBUZY-made-in-Poland_post-FB-i-INSTA.png
END:VEVENT
BEGIN:VEVENT
DTSTART;TZID=Europe/Warsaw:20260109T170000
DTEND;TZID=Europe/Warsaw:20260109T200000
DTSTAMP:20260422T165218
CREATED:20251218T122703Z
LAST-MODIFIED:20251218T122703Z
UID:19774-1767978000-1767988800@hortinet.pl
SUMMARY:Zagrożenia i wyzwania w produkcji sałaty i rzodkiewki w 2026r
DESCRIPTION:Firma Enza Zaden wraz z firmami partnerskimi Yara Poland\, Calfert\, Krasoń\, Timac Agro\, Koppert serdecznie zapraszają na seminarium:\nZagrożenia i wyzwania w produkcji sałaty i rzodkiewki w 2026r. \ndnia: 9 stycznia 2026r \nmiejscowość: Majków Duży 6a\, Hotel Młyn \ngodzina: 17:00 \nSpotkanie będzie doskonałą okazją do wymiany doświadczeń\, wysłuchania ciekawych prelekcji oraz konsultację ze specjalistami. \nOrganizatorzy serdecznie zapraszają!
URL:https://hortinet.pl/wydarzenie/zagrozenia-i-wyzwania-w-produkcji-salaty-i-rzodkiewki-w-2026r/
LOCATION:Hotel Młyn\, Majków Duży 6a\, Majków Duży 6a\, 97-371\, Poland
ATTACH;FMTTYPE=image/jpeg:https://hortinet.pl/wp-content/uploads/2025/12/rzodkiewka-salata-9-stycznia-2026.jpg
END:VEVENT
BEGIN:VEVENT
DTSTART;TZID=Europe/Warsaw:20260113T150000
DTEND;TZID=Europe/Warsaw:20260113T180000
DTSTAMP:20260422T165218
CREATED:20260112T093216Z
LAST-MODIFIED:20260112T093216Z
UID:19943-1768316400-1768327200@hortinet.pl
SUMMARY:Problemy w uprawie warzyw
DESCRIPTION:Firma Argenta Seeds wraz z firmami Certis Belchim\, Bio Gen\, Koppert\, ICL\, Agrimpex zapraszają na spotkanie poświęcone najczęściej występującym problemom w uprawie warzyw.\nPodczas spotkania zostaną omówione kluczowe zagadnienia wpływające na jakość i wydajność produkcji.\nPonadto zostaną przedstawione praktyczne rozwiązania i rekomendacje. \nKiedy: 13.01.2026r \nGdzie: Zielone Wzgórze (sala Stodoła)\, Zielona 43\, 32-104 Zielona \nstart: godz. 15:00 \nPo spotkaniu organizatorzy zapraszają na wspólny obiad.
URL:https://hortinet.pl/wydarzenie/problemy-w-uprawie-warzyw/
LOCATION:Zielone Wzgórze (sala Stodoła)\, ul. Zielona 43\, Zielona\, 32-104\, Poland
ATTACH;FMTTYPE=image/jpeg:https://hortinet.pl/wp-content/uploads/2026/01/611376938_1451792516956796_4159296173812763210_n.jpg
END:VEVENT
BEGIN:VEVENT
DTSTART;TZID=Europe/Warsaw:20260113T180000
DTEND;TZID=Europe/Warsaw:20260113T210000
DTSTAMP:20260422T165218
CREATED:20260112T101941Z
LAST-MODIFIED:20260112T101941Z
UID:19951-1768327200-1768338000@hortinet.pl
SUMMARY:Webinar: MARCHEW I CEBULA 2026: FAKTY\, ODMIANY\, OCHRONA?
DESCRIPTION:Firma Seminis/De Ruiter zaprasza na webinar MARCHEW I CEBULA 2026: FAKTY\, ODMIANY\, OCHRONA? \n\n\n\n 13 stycznia | godz. 18:00 \n\n\n\nDołącz  i zyskaj informacje\, które realnie pomogą Ci zaplanować sezon 2026:\n\n\n aktualne fakty rynkowe dotyczące marchwi i cebuli (dane IERiGŻ)\n rekomendowane odmiany marchwi i cebuli na 2026 rok\n case study producentów – praktyka zamiast teorii\n ochrona roślin – sprawdzone i skuteczne rozwiązania\n sesja Q&A + podsumowanie sezonu\n\n\n\n BONUS!\nWeź udział w konkursie i wygraj bon o wartości 500 zł \n\n\n\n Nie odkładaj decyzji na później – zarejestruj się już dziś – https://grow.vegetables.bayer.com/Seminis_Marchew-i-cebula-2026.html?fbclid=IwY2xjawPRqZ9leHRuA2FlbQIxMABicmlkETAwNUdRelZuRTZTdUlBWUttc3J0YwZhcHBfaWQQMjIyMDM5MTc4ODIwMDg5MgABHitkus6_pzi02ZtI7FsEetnYQKgvI17Do1fYO3I4ArmrsfOUaO8GcMd1n1Ux_aem_mxz1KYIXOlXShrDIhywh_A
URL:https://hortinet.pl/wydarzenie/webinar-marchew-i-cebula-2026-fakty-odmiany-ochrona/
ATTACH;FMTTYPE=image/jpeg:https://hortinet.pl/wp-content/uploads/2026/01/cebula-webinar.jpg
END:VEVENT
BEGIN:VEVENT
DTSTART;TZID=Europe/Warsaw:20260114T150000
DTEND;TZID=Europe/Warsaw:20260114T190000
DTSTAMP:20260422T165218
CREATED:20260113T062423Z
LAST-MODIFIED:20260113T062423Z
UID:19955-1768402800-1768417200@hortinet.pl
SUMMARY:Seminarium: kalafiory\, warzywa kapustne i dynie oraz ochrona tych warzyw.
DESCRIPTION:Enza Zaden\, Biocont Polska\, Timac Agro\, Bio Gen oraz Certis Belchim serdecznie zapraszają producentów kalafiorów\, dyń\, warzyw kapustnych i nie tylko na seminarium poświęcone uprawie tych warzyw.\n Data: 14 stycznia 2026 Godzina: 15:00 Miejsce: Szlachecki Dwór w Pobiedniku Wielkim\n\nProgram spotkania:\n-Nie tylko kalafiory\, nowości w doborze odmian na rejon krakowski. Bernard Zioło\, Enza Zaden-Dynie pod kontrolą: jakość plonu wolna od wirusów i sprzedaż bez pośpiechu. Aleksandra Krzyżanowska\, Enza Zaden-Od analizy gleby do plonu ! Rozsądne zarządzanie zasobami gleby. Ewelina Bucka\, Timac Agro-Czas uprościć produkcję warzyw. Aleksandra Wronka\, Polska Rozsada Krasoń\n-Przerwa kawowa\n-Skuteczne metody ochrony warzyw kapustowatych przed najważniejszymi szkodnikami i chorobami. dr. Michał Pniak\, Biocont– Efektywność preparatów mikrobiologicznych w uprawie warzyw. Kiedy i jak je stosować? Łukasz Stawinoga\, Wojciech Szyszkowski\, Bio-Gen– Ochrona fungicydowa\, insektycydowa i herbicydowa upraw warzywnych. Andrzej Słaboń\, Certis Belchim\n\nOrganizatorzy serdecznie zapraszają!!!
URL:https://hortinet.pl/wydarzenie/seminarium-kalafiory-warzywa-kapustne-i-dynie-oraz-ochrona-tych-warzyw/
LOCATION:Szlachecki Dwór Pobiednik\, Pobiednik Wielki 121\, Pobiednik Wielki\, małopolskie\, 32-125\, Poland
ATTACH;FMTTYPE=image/jpeg:https://hortinet.pl/wp-content/uploads/2026/01/pobiednik.jpg
END:VEVENT
BEGIN:VEVENT
DTSTART;TZID=Europe/Warsaw:20260114T180000
DTEND;TZID=Europe/Warsaw:20260114T210000
DTSTAMP:20260422T165218
CREATED:20260112T101411Z
LAST-MODIFIED:20260112T101411Z
UID:19947-1768413600-1768424400@hortinet.pl
SUMMARY:WEBINAR: PRODUKCJA\, RYNEK\, KONSUMENT - WSPÓLNY MIANOWNIK DLA KALAFIORA I BROKUŁA
DESCRIPTION:Firma Agro Bayer Polska /Seminis & De Ruiter Polska zaprasza na webinar poświęcony kalafiorowi i brokułowi\, podczas którego uwaga będzie zwrócona kompleksowo na ich uprawę – od produkcji w polu\, przez badania i rynek\, aż po decyzje konsumenta i półkę sklepową.\n\n 14.01.2026 o 18:00\n\nPodczas wydarzenia zostaną poruszone m.in. następujące tematy:•⁠ ⁠Sytuacja rynkowa kalafiora i brokuła – analizy oraz dane branżowe: Instytut Ekonomiki Rolnictwa i Gospodarki Żywnościowej•⁠ ⁠Choroby i pozostałości – aktualne wyzwania w produkcji:Instytut Ogrodnictwa Skierniewice•⁠ ⁠Preferencje rynku a dobór odmian – jak badania konsumenckie przekładają się na portfolio: Seminis•⁠ ⁠Case study producentów i skupów – praktyczne doświadczenia z rynku•⁠ ⁠Panel dyskusyjny „Z pola na półkę sklepową” – rozmowa przedstawicieli rynku\, handlu i przetwórstwa: NET-PROFIT Warzywa&Owoce Sp. z o.o.\, Auchan\, Greenyard•⁠ ⁠Dane rynkowe i informacje o zamówieniach – aktualne trendy i obserwacje: Grupa Producentów Rozsad Krasoń\n\n Dlaczego warto  dołączyć?\nZarejestruj się na wydarzenie już dziś i weź udział w konkursie\, w którym do wygrania jest voucher o wartości 500 zł do wykorzystania w sklepie sportowym!\n\nlink do zapisu:  https://grow.vegetables.bayer.com/brokul-i-kalafior-2026.html?fbclid=IwY2xjawPRocFleHRuA2FlbQIxMABicmlkETAwNUdRelZuRTZTdUlBWUttc3J0YwZhcHBfaWQQMjIyMDM5MTc4ODIwMDg5MgABHvGVs9bU9qAdHQ59v15boFtiCNim8JqVsfqCLvno2NdmkXpUCvFfpgs8H_4u_aem_IRHmDeq-2Mioqg1wqKQI4g
URL:https://hortinet.pl/wydarzenie/webinar-produkcja-rynek-konsument-wspolny-mianownik-dla-kalafiora-i-brokula/
ATTACH;FMTTYPE=image/jpeg:https://hortinet.pl/wp-content/uploads/2026/01/webinar-kalafior.jpg
END:VEVENT
BEGIN:VEVENT
DTSTART;TZID=Europe/Warsaw:20260115T100000
DTEND;TZID=Europe/Warsaw:20260115T150000
DTSTAMP:20260422T165218
CREATED:20260112T090746Z
LAST-MODIFIED:20260112T090746Z
UID:19930-1768471200-1768489200@hortinet.pl
SUMMARY:Cebula bez tajemnic
DESCRIPTION:Hazera Elite Onion Club wraz z partnerem projektu\, firmą ADOB i współorganizatorami Certis Belchim Polska\, Symbioz\, Royal Crop\, Kujawsko-Pomorski Ośrodkiem Doradztwa Rolniczego w Minikowie\nserdecznie zapraszają  na szkolenie z cyklu\nCebula bez tajemnic \nKiedy: 15 stycznia\, start godz. 10:00 \nGdzie: Karczma Kujawska\, Cieślin  \nW programie: \n\nPaul Fiers (Hazera Seeds NL)  Cebula od hodowli i produkcji po sprzedaż i konsumpcję\nMaciej Rakocy i Wiesław Jakubowski (Hazera PL)  Nowości i standardy w ofercie na sezon 25/26\nPiotr Zawadzki (Certis Belchim)  Najnowsze rozwiązania herbicydowe i insektycydowe w cebuli\nPiotr Borczyński (KPODR w Minikowie)  Ochrona cebuli przed chwastami\, chorobami i szkodnikami.\nWłodzimierz Prus (Adob)  Nawożenie dolistne i fertygacja w cebuli\nWojciech Kopeć (Symbioz)  Wykład specjalny\nPatryk Smoleń (Royal Crop)  Wykorzystaj każdą kroplę\n\n  \nOrganizatorzy serdecznie zapraszają!
URL:https://hortinet.pl/wydarzenie/cebula-bez-tajemnic-3/
LOCATION:Karczma Kujawska\, Cieślin 8B\, Inowroclaw\, kujawsko-pomorskie\, 88-110\, Poland
ATTACH;FMTTYPE=image/png:https://hortinet.pl/wp-content/uploads/2026/01/2026_zaproszenie_szkolenie_cebula-bez-tajemnic_EOC_post_save-the-date-Cieslin-15.01.2026.png
END:VEVENT
BEGIN:VEVENT
DTSTART;TZID=Europe/Warsaw:20260115T150000
DTEND;TZID=Europe/Warsaw:20260115T180000
DTSTAMP:20260422T165218
CREATED:20260112T091850Z
LAST-MODIFIED:20260112T091850Z
UID:19938-1768489200-1768500000@hortinet.pl
SUMMARY:W nowym sezonie postaw na odmiany Enza Zaden
DESCRIPTION:Firma Enza Zaden serdecznie zaprasza producentów kalafiorów\, dyń\, porów i nie tylko na szkolenie poświęcone uprawie tych warzyw. Data: 15 stycznia 2026 Godzina: 15:00 Miejsce: Hotel Chrobry\, Topola Królewska 37a \n\nProgram spotkania:-> Odmiany pora na każdą porę roku – Krzysztof Kubatko\, Piobar oraz Paweł Wechterowicz\, Enza Zaden-> Jak dobrze dobrać odmianę kalafiora – Bernard Zioło\, Enza Zaden-> Miej wirusa „z dyni”- Aleksandra Krzyżanowska\, Enza Zaden-> Inokulanty donasienne oraz preparaty biologicznie aktywne w produkcji rozsady- Jacek Ignaczak J&P Agro-> Alternatywne nawożenie bezchlorkowe w uprawie warzyw. – Piotr Cirocki-> Biologiczne preparaty w skutecznej walce ze szkodnikami- Piotr Kucharczyk- doradca agrotechniczny\n\nOrganizatorzy serdecznie zapraszają!
URL:https://hortinet.pl/wydarzenie/w-nowym-sezonie-postaw-na-odmiany-enza-zaden/
LOCATION:Hotel Chrobry\, Topola Królewska 37a\, Topola Królewska\, łódzkie\, 99-100\, Poland
ATTACH;FMTTYPE=image/jpeg:https://hortinet.pl/wp-content/uploads/2026/01/lodzkie.jpg
END:VEVENT
BEGIN:VEVENT
DTSTART;TZID=Europe/Warsaw:20260116T100000
DTEND;TZID=Europe/Warsaw:20260116T150000
DTSTAMP:20260422T165218
CREATED:20260112T091007Z
LAST-MODIFIED:20260112T091007Z
UID:19935-1768557600-1768575600@hortinet.pl
SUMMARY:Cebula bez tajemnic
DESCRIPTION:Hazera Elite Onion Club wraz z partnerem projektu\, firmą ADOB i współorganizatorami Certis Belchim Polska\, Symbioz\, Royal Crop\, Kujawsko-Pomorski Ośrodkiem Doradztwa Rolniczego w Minikowie\nserdecznie zapraszają  na szkolenie z cyklu\nCebula bez tajemnic \nKiedy: 15 stycznia\, start godz. 10:00 \nGdzie: Centrum Usługowo-Hotelowe Bagatelka \nW programie: \n\nPaul Fiers (Hazera Seeds NL)  Cebula od hodowli i produkcji po sprzedaż i konsumpcję\nMaciej Rakocy i Wiesław Jakubowski (Hazera PL)  Nowości i standardy w ofercie na sezon 25/26\nPiotr Zawadzki (Certis Belchim)  Najnowsze rozwiązania herbicydowe i insektycydowe w cebuli\nPiotr Borczyński (KPODR w Minikowie)  Ochrona cebuli przed chwastami\, chorobami i szkodnikami.\nWłodzimierz Prus (Adob)  Nawożenie dolistne i fertygacja w cebuli\nWojciech Kopeć (Symbioz)  Wykład specjalny\nPatryk Smoleń (Royal Crop)  Wykorzystaj każdą kroplę\n\n  \nOrganizatorzy serdecznie zapraszają!
URL:https://hortinet.pl/wydarzenie/cebula-bez-tajemnic-4/
LOCATION:Centrum Rekreacyjno-Hotelowe Bagatelka\, Bagatelka 4\, Mirosław\, wielkopolskie\, 62-320\, Poland
ATTACH;FMTTYPE=image/png:https://hortinet.pl/wp-content/uploads/2026/01/2026_zaproszenie_szkolenie_cebula-bez-tajemnic_EOC_post_save-the-date-Cieslin-15.01.2026.png
END:VEVENT
BEGIN:VEVENT
DTSTART;TZID=Europe/Warsaw:20260116T170000
DTEND;TZID=Europe/Warsaw:20260116T193000
DTSTAMP:20260422T165218
CREATED:20260113T064028Z
LAST-MODIFIED:20260113T064028Z
UID:19959-1768582800-1768591800@hortinet.pl
SUMMARY:Zielone Trio 2026: sałaty\, selery\, rzodkiewki
DESCRIPTION:Firma Rijk Zwaan wraz z Grupą Producentów Rozsady Krason\, AS Croop i Niva-Top zapraszają na spotkanie ZIELONE TRIO: sałaty\, selery\, rzodkiewki. \nKiedy: 16.01.2026 \nstart godz: 17.00 \ngdzie: Hotel Złoty Młyn\, Majków Duży 6A\, 97-371 Wola Krzysztoporska \n  \nW programie: \nJak zbudować portfolio sałat na cały sezon – w produkcji od wczesnej wiosny po jesień. Odmiany\, które stawią czoła największym wyzwaniom w produkcji – Michał Jankowski Rijk Zwaan \nJakie odmiany rzodkiewek sprawdziły się w rejonie Piotrkowa? – Jarosław Wojtczak Rijk Zwaan \nCo słychać u selera? – Jarosław Wojtczak Rijk Zwaan \nFuzarium\, wciornastki\, mszyce -stosowałeś już wszystko i nie widzisz efektów? Przyjdź i dowiedź się dlaczego? – Paweł Szymczak AS CROP \nDobra rozsada na pewny start – Grupa Producentów Rozsad Krasoń \nPielniki wielofunkcyjne – Dominik Grzelewski NIVA-TOP \n  \nPo spotkaniu organizatorzy zapraszają na wspólną kolację. \nOrganizatorzy proszą o potwierdzenie swojego udziału.
URL:https://hortinet.pl/wydarzenie/zielone-trio-2026-salaty-selery-rzodkiewki/
LOCATION:Hotel Złoty Młyn\, Majków Duży 6a\, Majków Duży 6a\, łódzkie\, 97-371\, Poland
ATTACH;FMTTYPE=image/jpeg:https://hortinet.pl/wp-content/uploads/2026/01/Zielone-trio-scaled.jpg
END:VEVENT
BEGIN:VEVENT
DTSTART;TZID=Europe/Warsaw:20260119T110000
DTEND;TZID=Europe/Warsaw:20260119T140000
DTSTAMP:20260422T165218
CREATED:20260113T065035Z
LAST-MODIFIED:20260113T065035Z
UID:19963-1768820400-1768831200@hortinet.pl
SUMMARY:Technologia hybrydowa w nowoczesnej produkcji warzyw
DESCRIPTION:Bio Gen\, Bio Lider\, Procam\, ICL\, ADOB zapraszają na specjalistyczne szkolenie poświęcone technologii hybrydowej w uprawie roślin strączkowych oraz kukurydzy cukrowej. Podczas spotkania zaprezentujemy praktyczne połączenie rozwiązań mikrobiologicznych\, nawożenia mineralnego i dolistnego oraz elementów ochrony roślin\, które wspierają stabilne plonowanie i zdrowotność upraw przy jednoczesnej optymalizacji kosztów produkcji.\n\n\nSzkolenie skierowane jest do producentów warzyw poszukujących nowoczesnych\, skutecznych i bezpiecznych technologii\, opartych na aktualnej wiedzy agronomicznej i doświadczeniu praktyków.\n\n\n\n 19 stycznia 2026 r.\n godz. 11:00\n Hotel Riviera\, Prusice\n\n\n\n W programie m.in.:\n\n\n zastosowanie produktów mikrobiologicznych w praktyce polowej\n technologia uprawy warzyw motylkowych i kukurydzy cukrowej\n nawożenie mineralne i dolistne w systemie hybrydowym\n panel dyskusyjny z ekspertami branżowymi\n\n\n\n Organizatorzy proszą  o potwierdzenie udziału: 790 262 123
URL:https://hortinet.pl/wydarzenie/technologia-hybrydowa-w-nowoczesnej-produkcji-warzyw/
LOCATION:Hotel Riviera\, ul. Wrocławska 47\, Prusice
ATTACH;FMTTYPE=image/jpeg:https://hortinet.pl/wp-content/uploads/2026/01/612901055_1163592725984266_7233254203922864502_n.jpg
END:VEVENT
BEGIN:VEVENT
DTSTART;VALUE=DATE:20260124
DTEND;VALUE=DATE:20260126
DTSTAMP:20260422T165218
CREATED:20250731T111204Z
LAST-MODIFIED:20250731T111204Z
UID:18553-1769212800-1769385599@hortinet.pl
SUMMARY:16. edycja Targów Sadownictwa i Warzywnictwa TSW
DESCRIPTION:W dniach 23-24 stycznia 2026r odbędzie się 16. edycja Targów Sadownictwa i Warzywnictwa TSW \nZbliżająca się 16. edycja Targów Sadownictwa i Warzywnictwa TSW to nie tylko wystawa najnowszych technologii i rozwiązań dla ogrodnictwa. To również potężna dawka wiedzy i doświadczenia\, którą co roku zapewniają konferencje towarzyszące wydarzeniu. \nW przypadku najbliższej edycji organizatorzy planują przygotować aż 7 równolegle odbywających się konferencji\, w trzech strefach konferencyjnych\, w których weźmie udział blisko 3000 uczestników i ponad 80 prelegentów z Polski i zagranicy. Wybrane konferencje będą tłumaczone symultanicznie na język angielski\, co pozwala dotrzeć z treścią do jeszcze szerszego grona odbiorców. \nPodczas TSW 2026 odbędą się:\n\nXVI Konferencja Sadownicza\nXIII Konferencja Truskawkowa\nIV Konferencja Jagodowa – z podziałem na część malinową i porzeczkową\nXVI Konferencja Warzywnicza\nII Konferencja „Uprawa Winorośli”\nIII Konferencja „Pod Osłonami” – NOWOŚĆ!\n\n  \nProgram konferencji obejmuje najaktualniejsze zagadnienia branżowe\, prezentacje  najnowszych osiągnięć\, analizę trendów rynkowych\, a także dyskusje z praktykami i naukowcami. Nie zabraknie też praktycznych pokazów innowacyjnych rozwiązań\, które będzie można zobaczyć na żywo. \n\nTo wyjątkowa okazja\, by poszerzyć swoją wiedzę\, zdobyć nowe kontakty i zainspirować się do dalszego rozwoju.
URL:https://hortinet.pl/wydarzenie/16-edycja-targow-sadownictwa-i-warzywnictwa-tsw/
LOCATION:Targi Kielce\, Zakładowa 1\, Kielce\, 25-672\, Poland
ATTACH;FMTTYPE=image/jpeg:https://hortinet.pl/wp-content/uploads/2025/07/tsw.jpg
END:VEVENT
BEGIN:VEVENT
DTSTART;TZID=Europe/Warsaw:20260125T120000
DTEND;TZID=Europe/Warsaw:20260125T150000
DTSTAMP:20260422T165218
CREATED:20260119T115804Z
LAST-MODIFIED:20260119T115804Z
UID:19994-1769342400-1769353200@hortinet.pl
SUMMARY:O kapustnych i nie tylko...
DESCRIPTION:Firmy Bejo\, Amplus\, AgraNatura i Yara zapraszają na spotkanie warzywnicze – o kapustnych i nie tylko!\n\n\n\nKiedy: 25 stycznia (niedziela) o godz. 12:00\ngdzie: Hotel Planeta w Charsznicy\, ul. Żarnowiecka 45a \n\n\n\nW programie m.in.:\n jakie odmiany wybrać na sezon 2026\n jak przygotować glebę pod rozsadę\n jak ograniczyć pozostałości po środkach ochrony roślin\n nowości w portfolio Yara\n\n\n\n Po spotkaniu Organizatorzy zapraszają wszystkich uczestników na wspólny obiad\, a na koniec losowanie atrakcyjnych nagród!\n\n\n\n\n\n Kontakt: Paweł Glanowski – 606 318 718
URL:https://hortinet.pl/wydarzenie/o-kapustnych-i-nie-tylko/
LOCATION:Hotel Planeta\, ul. Żarnowiecka 45a\, Charsznica\, 32-250\, Poland
ATTACH;FMTTYPE=image/jpeg:https://hortinet.pl/wp-content/uploads/2026/01/kapustne-i-nie-tylko.jpg
END:VEVENT
BEGIN:VEVENT
DTSTART;TZID=Europe/Warsaw:20260128T093000
DTEND;TZID=Europe/Warsaw:20260128T130000
DTSTAMP:20260422T165218
CREATED:20260119T130357Z
LAST-MODIFIED:20260119T130604Z
UID:19999-1769592600-1769605200@hortinet.pl
SUMMARY:Wyzwania w produkcji kapust- skuteczne zwalczanie kiły kapustnych oraz fuzarium
DESCRIPTION:Firmy Peptechlab\, Agrojurek\, Centrum Ogrodnicze Jurek i Hazera Poland zapraszają na konferencję: \nWyzwania w produkcji kapust- skuteczne zwalczanie kiły kapustnych oraz fuzarium \nkiedy: 28 stycznia 2026r \ngodzina: 9.30-13.00 \ngdzie: Hotel Restauracja Planeta w Charsznicy \nOrganizatorzy serdecznie zapraszają!
URL:https://hortinet.pl/wydarzenie/wyzwania-w-produkcji-kapust-skuteczne-zwalczanie-kily-kapustnych-oraz-fuzarium/
LOCATION:Hotel Planeta\, ul. Żarnowiecka 45a\, Charsznica\, 32-250\, Poland
ATTACH;FMTTYPE=image/jpeg:https://hortinet.pl/wp-content/uploads/2026/01/IMG-20260118-WA0001-1.jpg
END:VEVENT
BEGIN:VEVENT
DTSTART;TZID=Europe/Warsaw:20260128T110000
DTEND;TZID=Europe/Warsaw:20260128T133000
DTSTAMP:20260422T165218
CREATED:20260120T094944Z
LAST-MODIFIED:20260120T094944Z
UID:20008-1769598000-1769607000@hortinet.pl
SUMMARY:Cebula nie wybacza błędów. Jak ich uniknąć w sezonie 2026?
DESCRIPTION:Firma Enza Zaden wraz z partnerami spotkania Calfert\, Symbioz\, AgroTop Kaczmarek\, Certis Belchim\, Hurtownia Janiak serdecznie zapraszają producentów cebuli na spotkanie:\nCebula nie wybacza błędów. Jak ich uniknąć w sezonie 2026?\n Data: 28 stycznia 2026\n Godzina: 11:00 Miejsce: Hotel Kristoff\, 62-814 Łaszków 8A\,\n\nProgram spotkania:-> 11:00 – Przywitanie uczestników-> 11:05-11:30 – Odporne odmiany- spokojny sezon. Cebule od Enza Zaden- Aleksandra Krzyżanowska\, Paweł Wechterowicz->11:30-11:55 – Wciornastek i nie tylko w ochronie cebuli na nowy sezon- Piotr Zawadzki\, Certis Belchim->11:55-12:20 – Nowoczesna biostymulacja i nawożenie warzyw w uprawie polowej- Albert Zwierzyński\, Calfert->12:20-12:35 – Przerwa kawowa-> 12:35-13:00 – TC 14 – fakty i mity- Tomasz Kaczmarek\, Agrotop-> 13:00-13:25 – Wykład specjalny- Wojciech Kopeć\, Symbioz-> 13:25-13:35 – Oferta handlowa na sezon 2026- Tomasz Walas\, Hurtownia Janiak->13:30 – Obiad\n\nOrganizatorzy serdecznie zapraszają!
URL:https://hortinet.pl/wydarzenie/cebula-nie-wybacza-bledow-jak-ich-uniknac-w-sezonie-2026/
LOCATION:Hotel Kristoff\, Łaszków 8A\, 62-814 Łaszków\, 62-814\, Poland
ATTACH;FMTTYPE=image/jpeg:https://hortinet.pl/wp-content/uploads/2026/01/Zaproszenie-na-spotkanie_cebula_28.01.2026_online1.jpg
END:VEVENT
BEGIN:VEVENT
DTSTART;TZID=Europe/Warsaw:20260129T090000
DTEND;TZID=Europe/Warsaw:20260129T110000
DTSTAMP:20260422T165218
CREATED:20260122T072939Z
LAST-MODIFIED:20260122T073251Z
UID:20017-1769677200-1769684400@hortinet.pl
SUMMARY:Kapusta głowiasta- od odmian po innowacyjne rozwiązania w produkcji
DESCRIPTION:MODR Karniowice\, Argenta Seeds\, Bio Gen\, Bio Lider\, BASF\, FMC zapraszają na szkolenie on – line \nKapusta głowiasta- od odmian po innowacyjne rozwiązania w produkcji \ndnia 29 stycznia 2026r \ngodzina 9.00 – 11.10 \nRejestracja na webinar Zoom przez formularz kontaktowy https://zoom.us/webinar/register/WN_SXVAbWjKQUqLITshA7KBwA#/registration \ndostępny także na stronie modr.pl \nOrganizatorzy serdecznie zapraszają!
URL:https://hortinet.pl/wydarzenie/kapusta-glowiasta-od-odmian-po-innowacyjne-rozwiazania-w-produkcji/
ATTACH;FMTTYPE=image/jpeg:https://hortinet.pl/wp-content/uploads/2026/01/Plakat_kapusta_29.01.2026-scaled.jpg
END:VEVENT
BEGIN:VEVENT
DTSTART;TZID=Europe/Warsaw:20260130T160000
DTEND;TZID=Europe/Warsaw:20260130T193000
DTSTAMP:20260422T165218
CREATED:20260126T105649Z
LAST-MODIFIED:20260126T105649Z
UID:20031-1769788800-1769801400@hortinet.pl
SUMMARY:W nowym sezonie postaw na odmiany z Enza Zaden
DESCRIPTION:Firma Enza Zaden wraz z Yara Poland\, Green Eco Poland\, Agromix\, Innvigo\, Hurtownia Janiak\nserdecznie zapraszają na szkolenie\n„W nowym sezonie postaw na odmiany z Enza Zaden”\ngdzie:  Sala Biesiadna\, Jeziora Wielkie 58\, 88-324 Jeziora Wielkie\nkiedy: 30 stycznia o godz. 16:00 \nOrganizatorzy serdecznie zapraszają!
URL:https://hortinet.pl/wydarzenie/w-nowym-sezonie-postaw-na-odmiany-z-enza-zaden/
LOCATION:Sala Biesiadna\, Jeziora Wielkie 58\, Jeziora Wielkie 58\, kujawsko-pomorskie\, 88-324\, Poland
ATTACH;FMTTYPE=image/jpeg:https://hortinet.pl/wp-content/uploads/2026/01/Zaproszenie-na-spotkanie_Jeziora-Wielkie_30.01.2026_1.jpg
END:VEVENT
END:VCALENDAR